BEGIN:VCALENDAR
VERSION:2.0
PRODID:-//Shooting Star Children’s Hospices - ECPv6.15.20//NONSGML v1.0//EN
CALSCALE:GREGORIAN
METHOD:PUBLISH
X-WR-CALNAME:Shooting Star Children’s Hospices
X-ORIGINAL-URL:https://www.shootingstar.org.uk
X-WR-CALDESC:Events for Shooting Star Children’s Hospices
REFRESH-INTERVAL;VALUE=DURATION:PT1H
X-Robots-Tag:noindex
X-PUBLISHED-TTL:PT1H
BEGIN:VTIMEZONE
TZID:Europe/London
BEGIN:DAYLIGHT
TZOFFSETFROM:+0000
TZOFFSETTO:+0100
TZNAME:BST
DTSTART:20180325T010000
END:DAYLIGHT
BEGIN:STANDARD
TZOFFSETFROM:+0100
TZOFFSETTO:+0000
TZNAME:GMT
DTSTART:20181028T010000
END:STANDARD
BEGIN:DAYLIGHT
TZOFFSETFROM:+0000
TZOFFSETTO:+0100
TZNAME:BST
DTSTART:20190331T010000
END:DAYLIGHT
BEGIN:STANDARD
TZOFFSETFROM:+0100
TZOFFSETTO:+0000
TZNAME:GMT
DTSTART:20191027T010000
END:STANDARD
BEGIN:DAYLIGHT
TZOFFSETFROM:+0000
TZOFFSETTO:+0100
TZNAME:BST
DTSTART:20200329T010000
END:DAYLIGHT
BEGIN:STANDARD
TZOFFSETFROM:+0100
TZOFFSETTO:+0000
TZNAME:GMT
DTSTART:20201025T010000
END:STANDARD
END:VTIMEZONE
BEGIN:VTIMEZONE
TZID:UTC
BEGIN:STANDARD
TZOFFSETFROM:+0000
TZOFFSETTO:+0000
TZNAME:UTC
DTSTART:20180101T000000
END:STANDARD
END:VTIMEZONE
BEGIN:VEVENT
DTSTART;TZID=Europe/London:20191215T150000
DTEND;TZID=Europe/London:20191215T170000
DTSTAMP:20260426T024124
CREATED:20190912T133519Z
LAST-MODIFIED:20190912T133519Z
UID:41503-1576422000-1576429200@www.shootingstar.org.uk
SUMMARY:Christopher's Christmas Party
DESCRIPTION:Our Christmas Party at Christopher’s Children’s Hospice is open to all supported children and familes. Enjoy festive entertainment\, food and a visit to Father Christmas himself! \n  \nPlease be aware that all event dates are provisional and will be confirmed in the event invitation. \n 
URL:https://www.shootingstar.org.uk/event/christophers-christmas-party/
LOCATION:Christopher’s Children’s Hospice\, Old Portsmouth Road\, Guildford\, England\, GU3 1LP\, United Kingdom
CATEGORIES:Events for supported children and families,Supported children,Supported dads,Supported grandparents,Supported mums,Supported siblings
ATTACH;FMTTYPE=image/jpeg:https://www.shootingstar.org.uk/app/uploads/2019/09/art-artistic-beautiful-704146-e1568295251746.jpg
END:VEVENT
BEGIN:VEVENT
DTSTART;TZID=Europe/London:20191125T163000
DTEND;TZID=Europe/London:20191125T180000
DTSTAMP:20260426T024124
CREATED:20191107T122612Z
LAST-MODIFIED:20191107T122612Z
UID:42945-1574699400-1574704800@www.shootingstar.org.uk
SUMMARY:Ice skating at Hampton Court
DESCRIPTION:Come and join us for a ice skating session for all the family at Hampton Court Ice Rink. Open to supported children and their families from both of our hospices.
URL:https://www.shootingstar.org.uk/event/ice-skating-at-hampton-court/
LOCATION:Hampton Court Palace\, Hampton Court Way\, Molesey\, England\, KT8 9AU\, United Kingdom
CATEGORIES:Events for supported children and families,Supported children,Supported dads,Supported mums,Supported siblings
ATTACH;FMTTYPE=image/jpeg:https://www.shootingstar.org.uk/app/uploads/2018/12/26-11-2008-128.jpg
END:VEVENT
BEGIN:VEVENT
DTSTART;TZID=UTC:20191101T110000
DTEND;TZID=UTC:20191101T150000
DTSTAMP:20260426T024124
CREATED:20190718T082156Z
LAST-MODIFIED:20190718T082156Z
UID:40122-1572606000-1572620400@www.shootingstar.org.uk
SUMMARY:Older/Senior Siblings Day: Meet Eagle Radio
DESCRIPTION:An opportunity to met other siblings from the ages of 12 to 18 years in a similar situation at Christopher’s and to have a swim in the pool and then visit Eagle Radio station in Guildford\, where you will have an opportunity to see behind the scenes of a working radio station and  possibly meet a presenter. \n 
URL:https://www.shootingstar.org.uk/event/older-senior-siblings-day-meet-eagle-radio/
LOCATION:Christopher’s Children’s Hospice\, Old Portsmouth Road\, Guildford\, England\, GU3 1LP\, United Kingdom
CATEGORIES:Events for supported children and families,Supported siblings
ATTACH;FMTTYPE=image/jpeg:https://www.shootingstar.org.uk/app/uploads/2019/07/eagle-radio2.jpg
END:VEVENT
BEGIN:VEVENT
DTSTART;VALUE=DATE:20191031
DTEND;VALUE=DATE:20191101
DTSTAMP:20260426T024124
CREATED:20190702T142104Z
LAST-MODIFIED:20190702T142104Z
UID:39754-1572498000-1572566399@www.shootingstar.org.uk
SUMMARY:Bereaved Sibling's Day
DESCRIPTION:Siblings’ Day is designed to help with the plethora of feelings and potential challenges that exist in bereavement. \nWe include fun\, creative and physical activities to help reach and explore all sorts of feelings. The days take place in the school holidays at Shooting Star House\, with trips to specifically selected locations\, such as the beach. \nBereaved siblings from both hospices are invited to attend for three years after their brother or sister has died. \nPlease be aware that this event date is provisional and will be confirmed in the event invitation.
URL:https://www.shootingstar.org.uk/event/bereaved-siblings-day/
LOCATION:Shooting Star House Children’s Hospice\, The Avenue\, Hampton\, TW12 3RA\, United Kingdom
CATEGORIES:Events for supported children and families,Supported siblings
ATTACH;FMTTYPE=image/jpeg:https://www.shootingstar.org.uk/app/uploads/2019/07/WhatsApp-Image-2019-05-29-at-12.25.37-1-e1562080698433.jpeg
GEO:51.426339;-0.376042
X-APPLE-STRUCTURED-LOCATION;VALUE=URI;X-ADDRESS=Shooting Star House Children’s Hospice The Avenue Hampton TW12 3RA United Kingdom;X-APPLE-RADIUS=500;X-TITLE=The Avenue:geo:-0.376042,51.426339
END:VEVENT
BEGIN:VEVENT
DTSTART;TZID=UTC:20191030T100000
DTEND;TZID=UTC:20191030T153000
DTSTAMP:20260426T024124
CREATED:20190709T085118Z
LAST-MODIFIED:20190709T085118Z
UID:39759-1572429600-1572449400@www.shootingstar.org.uk
SUMMARY:Sensory Day at Christopher's
DESCRIPTION:Sensory Days are specifically for children and young people with profound and multiple learning difficulties between the ages of 5 and 21\, and their families. \nSensory days generally run in the school holidays and are a chance for the whole family to be involved in a fun session and have the opportunity to explore and experience appropriate sensory activities together. \nSensory Days are usually divided into two sessions: a morning session for children between 5 and 10 years and an afternoon session for children 11 years and older. \nEach session is a fun and interactive time using a mix of sensory and craft activities around a theme for the day such as ‘The Seaside’ or ‘Fun at the Fair’ with a break for refreshments. \nThe days gives families the opportunity to meet others in a similar situation and experience new skills using sensory activities that they can use at home. \nPlease be aware that all event dates are provisional and will be confirmed in the event invitation.
URL:https://www.shootingstar.org.uk/event/sensory-day-at-christophers/
LOCATION:Christopher’s Children’s Hospice\, Old Portsmouth Road\, Guildford\, England\, GU3 1LP\, United Kingdom
CATEGORIES:Events for supported children and families,Supported children,Supported dads,Supported grandparents,Supported mums,Supported siblings
ATTACH;FMTTYPE=image/jpeg:https://www.shootingstar.org.uk/app/uploads/2018/10/Christophers-mutlisensory-room-1.jpg
END:VEVENT
BEGIN:VEVENT
DTSTART;TZID=Europe/London:20191029T100000
DTEND;TZID=Europe/London:20191029T150000
DTSTAMP:20260426T024124
CREATED:20190926T112816Z
LAST-MODIFIED:20190926T112816Z
UID:41942-1572343200-1572361200@www.shootingstar.org.uk
SUMMARY:Sibling's Day: Magical Adventures
DESCRIPTION:We have an exciting day planned for siblings\, including arts and storytelling workshops around the theme of\n“Magical Adventures”. We will explore what it is like to go through spooky times and find our way when we feel lost! At this Siblings’ Day we invite children to come in a costume or with an accessory based on their favourite fairy-tale. \nAll of the activities are designed to help the siblings to get to know each other and share their experiences. If your child has not been before\, we want to assure them that we are a friendly team who will help them to settle in and look after them through the day. \nPlease be aware that all event dates are provisional and will be confirmed in the event invitation. \n 
URL:https://www.shootingstar.org.uk/event/siblings-day-magical-adventures/
LOCATION:Shooting Star House Children’s Hospice\, The Avenue\, Hampton\, TW12 3RA\, United Kingdom
CATEGORIES:Events for supported children and families,Supported siblings
ATTACH;FMTTYPE=image/jpeg:https://www.shootingstar.org.uk/app/uploads/2019/09/art-backlit-dark-556669-e1569497052978.jpg
GEO:51.426339;-0.376042
X-APPLE-STRUCTURED-LOCATION;VALUE=URI;X-ADDRESS=Shooting Star House Children’s Hospice The Avenue Hampton TW12 3RA United Kingdom;X-APPLE-RADIUS=500;X-TITLE=The Avenue:geo:-0.376042,51.426339
END:VEVENT
BEGIN:VEVENT
DTSTART;TZID=UTC:20190901T123000
DTEND;TZID=UTC:20190901T153000
DTSTAMP:20260426T024124
CREATED:20190703T095410Z
LAST-MODIFIED:20190703T095410Z
UID:39798-1567341000-1567351800@www.shootingstar.org.uk
SUMMARY:Family Fun Day
DESCRIPTION:We’d love to welcome all of our supported families to our Family Fun Day! There will be a BBQ\, a children’s entertainer\, a band\, a choir and lots\, lots more! \nThis year’s theme is ‘Disney’ and there will be prizes on the day for the best fancy dress. \n*Due to how busy the hospice car park is on the day of the Family Fun Day\, no cars are allowed on site. Please park in the Park & Ride car park (next to Christopher’s – postcode GU3 1LP). \n*Please note that in the event of bad weather\, the Family Fun Day will be cancelled. If in doubt on the day of the event\, please call 01483 230960. \nSee a few photos from last year’s family fun day:  \n\n 
URL:https://www.shootingstar.org.uk/event/family-fun-day/
LOCATION:Christopher’s Children’s Hospice\, Old Portsmouth Road\, Guildford\, England\, GU3 1LP\, United Kingdom
CATEGORIES:Events for supported children and families,Supported children,Supported dads,Supported grandparents,Supported mums,Supported siblings
ATTACH;FMTTYPE=image/jpeg:https://www.shootingstar.org.uk/app/uploads/2019/07/Family-Fun-Day-Sep-18-1.jpg
END:VEVENT
BEGIN:VEVENT
DTSTART;TZID=UTC:20190824T130000
DTEND;TZID=UTC:20190824T160000
DTSTAMP:20260426T024124
CREATED:20190703T101232Z
LAST-MODIFIED:20190703T101232Z
UID:39817-1566651600-1566662400@www.shootingstar.org.uk
SUMMARY:StarFest
DESCRIPTION:Families are invited to come along for a relaxing  afternoon of music\, socialising and fun activities. All you need to do is bring your own picnic\, then simply enjoy the afternoon with other supported families. \n  \nPlease be aware that all event dates are provisional and will be confirmed in the event invitation.
URL:https://www.shootingstar.org.uk/event/starfest/
LOCATION:Shooting Star House Children’s Hospice\, The Avenue\, Hampton\, TW12 3RA\, United Kingdom
CATEGORIES:Events for supported children and families,Supported children,Supported dads,Supported grandparents,Supported mums,Supported siblings
ATTACH;FMTTYPE=image/jpeg:https://www.shootingstar.org.uk/app/uploads/2019/02/1Shooting-Star-House-Music-Room.jpg
GEO:51.426339;-0.376042
X-APPLE-STRUCTURED-LOCATION;VALUE=URI;X-ADDRESS=Shooting Star House Children’s Hospice The Avenue Hampton TW12 3RA United Kingdom;X-APPLE-RADIUS=500;X-TITLE=The Avenue:geo:-0.376042,51.426339
END:VEVENT
BEGIN:VEVENT
DTSTART;VALUE=DATE:20190809
DTEND;VALUE=DATE:20190812
DTSTAMP:20260426T024124
CREATED:20190703T105846Z
LAST-MODIFIED:20190703T105846Z
UID:39829-1565326800-1565567999@www.shootingstar.org.uk
SUMMARY:Rocks and Pebbles
DESCRIPTION:Rocks and Pebbles is a group for bereaved siblings and is facilitated by creative therapists and counsellors who collaborate with professional musicians from leading national orchestras. \nThis three day therapeutic music workshop held every 18 months. \nPlease be aware that all event dates are provisional and will be confirmed in the event invitation.
URL:https://www.shootingstar.org.uk/event/rocks-and-pebbles/
LOCATION:Christopher’s Children’s Hospice\, Old Portsmouth Road\, Guildford\, England\, GU3 1LP\, United Kingdom
CATEGORIES:Events for supported children and families,Supported siblings
ATTACH;FMTTYPE=image/jpeg:https://www.shootingstar.org.uk/app/uploads/2019/07/rock-3-e1562154958851.jpg
END:VEVENT
BEGIN:VEVENT
DTSTART;TZID=UTC:20190731T140000
DTEND;TZID=UTC:20190731T163000
DTSTAMP:20260426T024124
CREATED:20190703T115803Z
LAST-MODIFIED:20190703T115803Z
UID:39838-1564581600-1564590600@www.shootingstar.org.uk
SUMMARY:Beach Activity Day
DESCRIPTION:Join us for a Beach Activity Day complete with beach themed activities including Punch and Judy\, singing\, arts and crafts\, and a beach scavenger hunt.
URL:https://www.shootingstar.org.uk/event/beach-activity-day/
LOCATION:Christopher’s Children’s Hospice\, Old Portsmouth Road\, Guildford\, England\, GU3 1LP\, United Kingdom
CATEGORIES:Events for supported children and families,Supported children,Supported dads,Supported grandparents,Supported mums,Supported siblings
ATTACH;FMTTYPE=image/jpeg:https://www.shootingstar.org.uk/app/uploads/2019/07/General-Beach-Activity-Day-Aug-18-7-e1562155515405.jpg
END:VEVENT
BEGIN:VEVENT
DTSTART;TZID=UTC:20190729T100000
DTEND;TZID=UTC:20190729T153000
DTSTAMP:20260426T024124
CREATED:20190703T123429Z
LAST-MODIFIED:20190703T123429Z
UID:39842-1564394400-1564414200@www.shootingstar.org.uk
SUMMARY:Sensory Day at Holly Lodge
DESCRIPTION:Sensory Days are specifically for children and young people with profound and multiple learning difficulties between the ages of 5 and 21\, and their families. \nSensory days run in the school holidays and are a chance for the whole family to be involved in a fun session and have the opportunity to explore and experience appropriate sensory activities together. \nSensory Days are usually divided into two sessions: a morning session for children between 5 and 10 years and an afternoon session for children 11 years and older. \nEach session is a fun and interactive time using a mix of sensory and craft activities around a theme for the day such as ‘The Seaside’ or ‘Fun at the Fair’ with a break for refreshments. \nThe days gives families the opportunity to meet others in a similar situation and experience new skills using sensory activities that they can use at home.
URL:https://www.shootingstar.org.uk/event/sensory-day-at-holly-lodge/
LOCATION:Holly Lodge\, Richmond Park\, London\, TW10 5HS\, United Kingdom
CATEGORIES:Events for supported children and families,Supported children,Supported dads,Supported grandparents,Supported mums,Supported siblings
ATTACH;FMTTYPE=image/jpeg:https://www.shootingstar.org.uk/app/uploads/2018/10/Cs-gardens-18.jpg
END:VEVENT
BEGIN:VEVENT
DTSTART;VALUE=DATE:20190726
DTEND;VALUE=DATE:20190729
DTSTAMP:20260426T024124
CREATED:20190703T124400Z
LAST-MODIFIED:20190703T124400Z
UID:39846-1564117200-1564358399@www.shootingstar.org.uk
SUMMARY:Festival of Music
DESCRIPTION:Inclusive music workshops and performance for children and young people of Shooting Star Children’s Hospices facilitated by the music therapist and community musicians from London’s leading orchestras. \n  \nPlease be aware that all event dates are provisional and will be confirmed in the event invitation.
URL:https://www.shootingstar.org.uk/event/festival-of-music/
LOCATION:Christopher’s Children’s Hospice\, Old Portsmouth Road\, Guildford\, England\, GU3 1LP\, United Kingdom
CATEGORIES:Events for supported children and families,Supported children,Supported dads,Supported grandparents,Supported mums,Supported siblings
ATTACH;FMTTYPE=image/jpeg:https://www.shootingstar.org.uk/app/uploads/2019/02/Molly-Festival-of-Music-18-13.jpg
END:VEVENT
BEGIN:VEVENT
DTSTART;TZID=UTC:20190725T140000
DTEND;TZID=UTC:20190725T180000
DTSTAMP:20260426T024124
CREATED:20190703T130508Z
LAST-MODIFIED:20190703T130508Z
UID:39858-1564063200-1564077600@www.shootingstar.org.uk
SUMMARY:Shooting Star House's Birthday - Siblings party
DESCRIPTION:Each year we invite siblings to celebrate Shooting Star House’s birthday. Many activities are planned including physical games\, music\, art\, play and much more! \nWe hope that the activities help the siblings to get to know each other in a fun and relaxed environment and enable them to reflect on the challenges and feelings that they are experiencing. \nWe like to have a birthday cake to enjoy too!
URL:https://www.shootingstar.org.uk/event/shooting-star-houses-birthday-siblings-party/
LOCATION:Shooting Star House Children’s Hospice\, The Avenue\, Hampton\, TW12 3RA\, United Kingdom
CATEGORIES:Events for supported children and families,Supported siblings
ATTACH;FMTTYPE=image/jpeg:https://www.shootingstar.org.uk/app/uploads/2016/07/Shooting-Star-House-in-Hampton.jpg
GEO:51.426339;-0.376042
X-APPLE-STRUCTURED-LOCATION;VALUE=URI;X-ADDRESS=Shooting Star House Children’s Hospice The Avenue Hampton TW12 3RA United Kingdom;X-APPLE-RADIUS=500;X-TITLE=The Avenue:geo:-0.376042,51.426339
END:VEVENT
END:VCALENDAR