BEGIN:VCALENDAR
VERSION:2.0
PRODID:-//Shooting Star Children’s Hospices - ECPv6.15.20//NONSGML v1.0//EN
CALSCALE:GREGORIAN
METHOD:PUBLISH
X-ORIGINAL-URL:https://www.shootingstar.org.uk
X-WR-CALDESC:Events for Shooting Star Children’s Hospices
REFRESH-INTERVAL;VALUE=DURATION:PT1H
X-Robots-Tag:noindex
X-PUBLISHED-TTL:PT1H
BEGIN:VTIMEZONE
TZID:Europe/London
BEGIN:DAYLIGHT
TZOFFSETFROM:+0000
TZOFFSETTO:+0100
TZNAME:BST
DTSTART:20250330T010000
END:DAYLIGHT
BEGIN:STANDARD
TZOFFSETFROM:+0100
TZOFFSETTO:+0000
TZNAME:GMT
DTSTART:20251026T010000
END:STANDARD
BEGIN:DAYLIGHT
TZOFFSETFROM:+0000
TZOFFSETTO:+0100
TZNAME:BST
DTSTART:20260329T010000
END:DAYLIGHT
BEGIN:STANDARD
TZOFFSETFROM:+0100
TZOFFSETTO:+0000
TZNAME:GMT
DTSTART:20261025T010000
END:STANDARD
BEGIN:DAYLIGHT
TZOFFSETFROM:+0000
TZOFFSETTO:+0100
TZNAME:BST
DTSTART:20270328T010000
END:DAYLIGHT
BEGIN:STANDARD
TZOFFSETFROM:+0100
TZOFFSETTO:+0000
TZNAME:GMT
DTSTART:20271031T010000
END:STANDARD
END:VTIMEZONE
BEGIN:VTIMEZONE
TZID:UTC
BEGIN:STANDARD
TZOFFSETFROM:+0000
TZOFFSETTO:+0000
TZNAME:UTC
DTSTART:20250101T000000
END:STANDARD
END:VTIMEZONE
BEGIN:VEVENT
DTSTART;VALUE=DATE:20260401
DTEND;VALUE=DATE:20260502
DTSTAMP:20260425T042248
CREATED:20250224T145503Z
LAST-MODIFIED:20260316T123253Z
UID:81351-1775019600-1777611599@www.shootingstar.org.uk
SUMMARY:Stroll into Spring
DESCRIPTION:Go walkies for Shooting Star\nCalling all Pups! It’s time to get your paws moving this spring for a great cause. During April\, we’re encouraging you to join forces with your human pals for our Stroll into Spring challenge. Enjoy the fresh air as the weather warms up and raise vital funds that will help children with life-limiting conditions. Pick a distance\, start walking and earn some exclusive Shooting Star goodies along the way as you walk for a great cause.
URL:https://www.shootingstar.org.uk/event/stroll-into-spring/
LOCATION:Anywhere
CATEGORIES:Family friendly,Fundraising events,Social,Walking
ATTACH;FMTTYPE=image/jpeg:https://www.shootingstar.org.uk/app/uploads/2025/02/Stroll-Into-Spring-1.jpg
END:VEVENT
BEGIN:VEVENT
DTSTART;VALUE=DATE:20260502
DTEND;VALUE=DATE:20260505
DTSTAMP:20260425T042248
CREATED:20230913T093554Z
LAST-MODIFIED:20250926T095106Z
UID:73606-1777698000-1777870799@www.shootingstar.org.uk
SUMMARY:Isle of Wight Challenge
DESCRIPTION:Great challenges need great settings\, and up to 2\,000 adventurers will tackle the Isle of Wight’s stunning coastal path over the bank holiday weekend. Take it on as your pace as a walk\, jog\, or run – and fundraise for Shooting Star! \nIt’s along the spectacular southern cliffs\, past the Needles\, and up to historic Cowes. For Full Island Challengers it’s on to Ventnor\, and back to our welcome basecamp in Chale\, after an epic journey! \nJoin as an individual or as a team; you’ll get full support all of the way\, plenty of food & drink\, optional camping & transfers\, a special medal\, T-Shirt and celebration finish. With distance options ranging from the full 106km\, down to the ‘Medina 10 mile’ – there’s an Isle of Wight Ultra Challenge for everyone! \nPush yourself further in 2026\, take on an Ultra Challenge – the UK’s No.1 Series of Treks & Trail Challenges. \n• Walk\, Jog\, or Run • 106km\, 50km\, 25km\, 10-mile Options • Food & Drink • Medal & T Shirt •
URL:https://www.shootingstar.org.uk/event/isle-of-wight-challenge-2/
LOCATION:Chale\, Isle of Wight
CATEGORIES:Fundraising events,Running,Walking
ATTACH;FMTTYPE=image/jpeg:https://www.shootingstar.org.uk/app/uploads/2023/09/Size-for-website-events-630px-x-400px-6.jpg
END:VEVENT
BEGIN:VEVENT
DTSTART;VALUE=DATE:20260516
DTEND;VALUE=DATE:20260519
DTSTAMP:20260425T042248
CREATED:20230824T135611Z
LAST-MODIFIED:20250926T095817Z
UID:73179-1778907600-1779080399@www.shootingstar.org.uk
SUMMARY:Jurassic Coast Challenge
DESCRIPTION:Spectacular World Heritage coastline to take on at your pace as a walk\, jog\, or run – and fundraise for Shooting Star! \nA start in Corfe Castle\, the route heads down to Swanage\, and along through Lulworth cove\, past Durdle Door\, with ups & downs to Weymouth halfway. For full 100km challengers\, it’s past Portland Bill\, Chesil Beach\, and on to West Bay – before a finish line in the vibrant town of Bridport. \nWith half\, Weymouth Marathon\, quarter\, and a 10km challenge options also – it’s the event of the year! \nJoin up to 3\,000 adventurers as an individual or as a team; you’ll get full support all the way\, plenty of food & drink\, optional camping & transfers\, a special medal\, T-Shirt and celebration finish – and a great sense of achievement! \nPush yourself further in 2026\, take on an Ultra Challenge – the UK’s No.1 Series of treks & trail challenges. \n• Walk\, Jog\, or Run • 100km\, ~50km\, ~25km\, 10km Options • Food & Drink • Medal & T Shirt • 
URL:https://www.shootingstar.org.uk/event/jurassic-coast-challenge-3/
LOCATION:Corfe Castle\, United Kingdom
CATEGORIES:Fundraising events,Running,Walking
ATTACH;FMTTYPE=image/jpeg:https://www.shootingstar.org.uk/app/uploads/2023/08/Size-for-website-events-630px-x-400px-7.jpg
END:VEVENT
BEGIN:VEVENT
DTSTART;VALUE=DATE:20260523
DTEND;VALUE=DATE:20260526
DTSTAMP:20260425T042248
CREATED:20230824T140557Z
LAST-MODIFIED:20250926T100607Z
UID:73184-1779512400-1779685199@www.shootingstar.org.uk
SUMMARY:London 2 Brighton Challenge
DESCRIPTION:2\,000 or so adventurers will take on the Capital to Coast trails and test their grit & determination. You can join and take it on at your pace as a walk\, jog\, or run – and fundraise for Shooting Star! \nRichmond-Upon-Thames is the start\, and it’s over the North Downs with wonderful Surrey & Sussex countryside to halfway at Turners Hill. The full 100km route heads over the South Downs before the welcome sight of the Brighton coastline comes into view. \nSign up as an individual or as a team; you’ll get full support all the way\, plenty of food & drink\, optional camping & transfers\, a special medal\, T-Shirt and celebration finish. \nWith half\, quarter\, Marathon & 25km options also available – there’s a bank holiday weekend challenge here for everyone! Push yourself further in 2026\, take on an Ultra Challenge – the UK’s No.1 Series of treks & trail challenges. \n• Walk\, Jog\, or Run • 100km\, ~50km\, 25km\, Options • Food & Drink • Medal & T Shirt •
URL:https://www.shootingstar.org.uk/event/london-2-brighton-challenge-2/
LOCATION:Richmond upon Thames\, TW9 1TH\, United Kingdom
CATEGORIES:Fundraising events,Running,Walking
ATTACH;FMTTYPE=image/jpeg:https://www.shootingstar.org.uk/app/uploads/2023/08/Size-for-website-events-630px-x-400px-8.jpg
END:VEVENT
BEGIN:VEVENT
DTSTART;VALUE=DATE:20260725
DTEND;VALUE=DATE:20260728
DTSTAMP:20260425T042248
CREATED:20191129T164903Z
LAST-MODIFIED:20250926T101720Z
UID:43101-1784955600-1785128399@www.shootingstar.org.uk
SUMMARY:South West Coast 50 Challenge
DESCRIPTION:A fantastic ‘South West’ summer challenge\, taking in the first Minehead section of the famous 630-mile Coastal Path\, and a basecamp in the shadows of the impressive Dunster Castle. \nThe 50km loop then heads over Exmoor with ups & downs and some magnificent views with over 1600 metres of climb. You can take it on at your pace as a walk\, jog\, or run – and fundraise for Shooting Star! \nSign up as an individual or as a team; you’ll get full support all the way\, plenty of food & drink\, optional camping & transfers\, a special medal\, T-Shirt and celebration finish. \nWith 25km & 10km options also available – there’s a challenge for everyone! Push yourself further in 2026\, take on an Ultra Challenge – the UK’s No. 1 Series of Treks & Trail Challenges. \n• Walk\, Jog\, or Run • 50km\, 25km\, 10km Options • Food & Drink • Medal & T Shirt • 
URL:https://www.shootingstar.org.uk/event/south-west-coast-challenge/
LOCATION:Minehead\, TA24 5NL
CATEGORIES:Fundraising events,Running,Walking
ATTACH;FMTTYPE=image/jpeg:https://www.shootingstar.org.uk/app/uploads/2019/11/Size-for-website-events-630px-x-400px-9.jpg
END:VEVENT
BEGIN:VEVENT
DTSTART;VALUE=DATE:20260801
DTEND;VALUE=DATE:20260803
DTSTAMP:20260425T042248
CREATED:20190517T103636Z
LAST-MODIFIED:20260317T144712Z
UID:38552-1785560400-1785646799@www.shootingstar.org.uk
SUMMARY:North Downs 50 Ultra Challenge
DESCRIPTION:Join #TeamShootingStar at the North Downs 50 Challenge!\nThe North Downs provides a fabulous challenge from a Guildford basecamp\, with a looped 10km\, 25km and 50km routes available which take in some of the best of the Surrey Hills\, the surrounding countryside and even our Guildford hospice\, Christopher’s. \nYou can take it on at your own paces – a walk\, jog\, or run – and fundraise for Shooting Star Children’s Hospices! \nA route with some wonderful scenery & fabulous views out to the South\, and easily accessible from London! Sign up as an individual or as a team; you’ll get full support all the way\, plenty of food and drink\, optional camping & transfers\, a special medal\, T-Shirt and celebration finish. \n  \nHow much does it cost to enter?\nThere are various registration and fundraising options depending on which distance and fundraising option you choose. As Shooting Star Children’s Hospices are an official partner you get a 25% discount on the ‘Full Sponsorship’ registration fee when you sign up to support us and join our team. \nFull Charity Sponsorship \n\n\n\n\nFull Charity Sponsorship\nRegistration fee\nFundraising target\n\n\nFull challenge ~ 50km\n£40 £30\n£375\n\n\nHalf challenge ~ 25km\n£30 £22.50\n£275\n\n\n10km challenge\n£15 £11.25\n£150\n\n\n\n\n\nMixed Funding \n\n\n\nMixed Funding\nRegistration fee\nFundraising target\n\n\nFull challenge ~ 50km\n£75\n£225\n\n\nHalf challenge ~ 25km\n£50\n£150\n\n\n10km challenge\n£25\n£100\n\n\n\n\n\nOwn Place \n\n\n\nOwn Place\nRegistration fee\nFundraising target\n\n\nFull challenge ~ 50km\n£139\nAs much as possible\n\n\nHalf challenge ~ 25km\n£89\nAs much as possible\n\n\n10km challenge\n£49\nAs much as possible\n\n\n\n\nWhy join #TeamShootingStar?\nWhen you join #TeamShootingStar\, you will receive: \n\nA free Shooting Star charity t-shirt or running vest\nDedicated support from Shooting Star’s Challenge Events Team\nRegular #TeamShootingStar email updates to inspire your fundraising\n\nBut most importantly\, you’ll run knowing you’re supporting families with a baby\, child or young person with a life-limiting condition\, or who have been bereaved\, across west London and Surrey. You’ll run knowing you’re supporting families make every moment count. \nIt costs £12 million a year to run Shooting Star Children’s Hospices. Without the generosity of our event participants we would not be able to keep our services going. \n  \nGet in touch\nIf you have questions\, please don’t hesitate to get in touch with us. \nEmail: events@shootingstar.org.uk \nPhone: 020 8783 2000
URL:https://www.shootingstar.org.uk/event/north-downs-challenge/
LOCATION:Loseley Park\, Guildford
CATEGORIES:Fundraising events,Running,Walking
ATTACH;FMTTYPE=image/jpeg:https://www.shootingstar.org.uk/app/uploads/2019/05/Size-for-website-events-630px-x-400px-2.jpg
END:VEVENT
BEGIN:VEVENT
DTSTART;VALUE=DATE:20260822
DTEND;VALUE=DATE:20260824
DTSTAMP:20260425T042248
CREATED:20230912T114448Z
LAST-MODIFIED:20250926T103550Z
UID:73577-1787374800-1787461199@www.shootingstar.org.uk
SUMMARY:London Summer Walk
DESCRIPTION:Get your walking shoes on and explore some of the Capital’s less known historic areas with a tour of the ‘Gateway to London’ along the Thames’s Eastern section – and fundraise for Shooting Star! \nStarting alongside the grandeur of Woolwich Barracks (short walk from the Elizabeth Line\, DLR & Overground) – there’s a marathon looped route\, which heads into the heart of the Capital – alongside a 25km option taking in Greenwich\, and a 10km option if you’re after something a bit shorter! \nRoutes steeped in history with iconic sights\, a lively warm up\, full support all the way\, rest stops with snacks & drinks\, and capped with a BBQ meal\, bar & music at the finish\, making for a wonderful active end of summer celebration! \n• Walk • Marathon\, 25km\, 10km Options • Food & Drink • Medal & T Shirt • 
URL:https://www.shootingstar.org.uk/event/london-summer-walk/
LOCATION:Woolwich
CATEGORIES:Fundraising events,Walking
ATTACH;FMTTYPE=image/jpeg:https://www.shootingstar.org.uk/app/uploads/2023/09/Size-for-website-events-630px-x-400px-11.jpg
END:VEVENT
BEGIN:VEVENT
DTSTART;VALUE=DATE:20260905
DTEND;VALUE=DATE:20260908
DTSTAMP:20260425T042248
CREATED:20230913T091641Z
LAST-MODIFIED:20250926T104654Z
UID:73595-1788584400-1788757199@www.shootingstar.org.uk
SUMMARY:South Coast Challenge
DESCRIPTION:The South Downs National Park is a superb backdrop for 2000 adventurers to take on a real challenge\, and you can take it on too at your own pace – a walk\, jog\, or run – and fundraise for Shooting Star! \nAn Eastbourne start\, up Beachy Head\, the magnificent Seven Sisters\, and along the South Downs Way\, with stunning views over the sea\, to a Brighton half-way. Devil’s Dyke\, and a few ups & downs lie ahead before Arundel comes into view after an amazing 100km journey. \nSign up as an individual or as a team; you’ll get full support all the way\, plenty of food & drink\, optional camping & transfers\, a special medal\, T-Shirt and celebration finish. With half & quarter distance options also available – there’s a challenge for everyone! Push yourself further in 2026\, take on an Ultra Challenge – the UK’s No.1 Series of Treks & Trail Challenges! \n• Walk\, Jog\, or Run • 100 km\, ~50km\, 25km\, Options • Food & Drink • Medal & T Shirt • 
URL:https://www.shootingstar.org.uk/event/south-coast-challenge-3/
LOCATION:South Downs Way
CATEGORIES:Fundraising events,Running,Walking
ATTACH;FMTTYPE=image/jpeg:https://www.shootingstar.org.uk/app/uploads/2023/09/Size-for-website-events-630px-x-400px-12.jpg
END:VEVENT
BEGIN:VEVENT
DTSTART;VALUE=DATE:20260912
DTEND;VALUE=DATE:20260914
DTSTAMP:20260425T042248
CREATED:20241008T080544Z
LAST-MODIFIED:20250926T094131Z
UID:80008-1789189200-1789275599@www.shootingstar.org.uk
SUMMARY:Thames Bridges Trek
DESCRIPTION:Join 2500 walkers and trek 25km across the Capital with unrivalled views of the skyline & landmarks – and you can fundraise for Shooting Star! From a Putney Bridge start\, it’s East towards the City\, zigzagging over 16 historic bridges\, each with a fascinating story – and a mid-point rest stop at The Oval Cricket Ground for snacks & drinks. 25km later\, beyond the majestic Tower Bridge\, it’s a party style finish line celebration & afternoon picnic in Southwark Park. \nSign up as an individual or as a team; you’ll get full support all the way\, plenty of food & drink\, a special medal\, T-Shirt and celebration finish. \nWith a 10km option also available – there’s a fabulous Thames Walk for you! \n• Walk • 25km\, 10km Options • Food & Drink • Medal & T Shirt • \n 
URL:https://www.shootingstar.org.uk/event/thames-bridges-trek-2/
LOCATION:Putney Bridge\, SW15 2PD
CATEGORIES:Fundraising events,Walking
ATTACH;FMTTYPE=image/jpeg:https://www.shootingstar.org.uk/app/uploads/2024/10/Size-for-website-events-630px-x-400px-4.jpg
END:VEVENT
BEGIN:VEVENT
DTSTART;VALUE=DATE:20260912
DTEND;VALUE=DATE:20260915
DTSTAMP:20260425T042248
CREATED:20191129T170322Z
LAST-MODIFIED:20250925T103952Z
UID:43483-1789189200-1789361999@www.shootingstar.org.uk
SUMMARY:Thames Path Challenge
DESCRIPTION:England’s greatest river provides a fantastic backdrop for an unforgettable challenge\, which you can take on at your pace as a walk\, jog\, or run – and fundraise for Shooting Star! Over 3000 adventurers will join the Putney Bridge start\, and the full 100km route heads upstream to Henley along the famous Towpath. It’s through Richmond\, Hampton Court\, Runnymede\, and Windsor\, with some wonderful scenery to a riverside finish line. Sign up as an individual or as a team; you’ll get full support all the way\, plenty of food & drink\, optional camping & transfers\, a special medal\, T shirt and celebration finish. With 50km\, 25km & Henley 10km options also available – there’s a Thames Path Challenge for everyone! Push yourself further in 2026\, take on an Ultra Challenge – the UK’s No. 1 Series of treks & trail challenges! \n• Walk\, Jog\, or Run • 100 km\, 50km\, 25km\, 10km Options • Food & Drink • Medal & T Shirt •
URL:https://www.shootingstar.org.uk/event/thames-path-challenge-2/
LOCATION:Bishops Park\, SW6 3LA
CATEGORIES:Fundraising events,Walking
ATTACH;FMTTYPE=image/jpeg:https://www.shootingstar.org.uk/app/uploads/2019/11/ThamesPath.jpg
END:VEVENT
END:VCALENDAR