BEGIN:VCALENDAR
VERSION:2.0
PRODID:-//Shooting Star Children’s Hospices - ECPv6.15.20//NONSGML v1.0//EN
CALSCALE:GREGORIAN
METHOD:PUBLISH
X-ORIGINAL-URL:https://www.shootingstar.org.uk
X-WR-CALDESC:Events for Shooting Star Children’s Hospices
REFRESH-INTERVAL;VALUE=DURATION:PT1H
X-Robots-Tag:noindex
X-PUBLISHED-TTL:PT1H
BEGIN:VTIMEZONE
TZID:UTC
BEGIN:STANDARD
TZOFFSETFROM:+0000
TZOFFSETTO:+0000
TZNAME:UTC
DTSTART:20180101T000000
END:STANDARD
END:VTIMEZONE
BEGIN:VEVENT
DTSTART;VALUE=DATE:20190713
DTEND;VALUE=DATE:20190715
DTSTAMP:20260423T142048
CREATED:20190515T131207Z
LAST-MODIFIED:20190515T131207Z
UID:38467-1562994000-1563148799@www.shootingstar.org.uk
SUMMARY:Peak District Challenge
DESCRIPTION:This new event is set to welcome 3\,000 adventurers into the Peak District National Park. With a Base Camp in idyllic Bakewell\, that will include camping facilities & extensive hospitality services – and the 100km Challenge takes a tough figure of 8 route through Derbyshire’s finest scenery. This gem in the Heart of England is a challenge not to be missed. \nChoose from 100km full route\, 50km route\, or 25k route \nYou’ll get full support and hospitality all the way\, leaving you to focus on your challenge! \n\nJoin as Individual or Team\nRest stops – free food & drink\nALL meals/ food included!\nMedics\, massage\, and pace walkers\nMedal\, T shirt\, glass of bubbly!\nWalk at Your Pace – 24 hours+\nRun or Jog – set a New Goal\n2 Day Full ‘Daylight’ option\n Camping options available\nPre-event training support + app\nIt’s Your Challenge – Your Way!\n\nFundraising options\nCharity Sponsorship – pay a small registration fee and do lots of fundraising! \nFull Challenge – £15 reg fee + £595 in fundraising; Half Challenge – £10 reg fee + £395 in fundraising; Quarter Challenge – £5 reg fee + £245 in fundraising \nMixed Funding – pay a higher contribution to the cost of your place and fundraise to a more achievable target. \nFull Challenge – £99 reg fee + £299 in fundraising; Half Challenge – £64.50 reg fee + £199 in fundraising; Quarter Challenge – £39.50 reg fee + £119 in fundraising \nSelf-Funding – pay the full cost of the event and raise whatever you can for Shooting Star Children’s Hospices. \nFull Challenge – £198; Half Challenge – £129; Quarter Challenge – £79
URL:https://www.shootingstar.org.uk/event/peak-district-challenge/
LOCATION:Bakewell\, The Square\, Bakewell\, Bakewell\, DE45 1BT\, United Kingdom
CATEGORIES:Fundraising events,Running,Walking
END:VEVENT
BEGIN:VEVENT
DTSTART;TZID=UTC:20190630T110000
DTEND;TZID=UTC:20190630T160000
DTSTAMP:20260423T142048
CREATED:20190516T094704Z
LAST-MODIFIED:20190516T094704Z
UID:38506-1561892400-1561910400@www.shootingstar.org.uk
SUMMARY:Hanworth Classic Car Show
DESCRIPTION:Spend a great family day out at the Hanworth Classic Car Show. There will be 100’s of Vintage Cars & Bikes to see and 1940/50’s Dance demonstrations\, all together in one of London’s Royal Parks. Bring a picnic and join in the fun for a great day out for all the family. Donations on the day are coming to Shooting Star Children’s Hospices. \nEntry is open to all Vintage/Classic vehicles\, please register online at http://www.hanworthclassic.org.uk \nFor general information\, please contact Mike Pratt on 07957 555 783 or  Nick Moore\, 0208 8903 443
URL:https://www.shootingstar.org.uk/event/hanworth-classic-car-show/
LOCATION:Bushy Park\, Hampton Court Road\, Hampton\, TW12 2EJ
CATEGORIES:Fundraising events,Social
ATTACH;FMTTYPE=image/jpeg:https://www.shootingstar.org.uk/app/uploads/2019/05/DSC_3426-banner.jpg
END:VEVENT
BEGIN:VEVENT
DTSTART;VALUE=DATE:20190629
DTEND;VALUE=DATE:20190701
DTSTAMP:20260423T142048
CREATED:20190515T130341Z
LAST-MODIFIED:20190515T130341Z
UID:38463-1561784400-1561939199@www.shootingstar.org.uk
SUMMARY:Cotswold Way Challenge
DESCRIPTION:Join over 2\,000 adventurers taking on the historic path from Bath to Cheltenham – with most walking – others jogging\, and some on the run of their life! Sart by the magnificent Royal Crescent\, and then walk through the famous rolling hills with fantastic views towards the Severn Estuary\, and idyllic villages nestling in between on an epic 100km journey – with full support and great hospitality all the way to the finish line. It will be rewarding\, fun\, and absolutely achievable with your resolve and determination alongside first class support. \nChose from the 100km Full Challenge\, or take on the Half  or Quarter routes. \nYou’ll get full support and hospitality all the way\, leaving you to focus on your challenge! \n\nJoin as Individual or Team\nRest stops – free food & drink\nALL meals/ food included!\nMedics\, massage\, and pace walkers\n Medal\, T shirt\, glass of bubbly!\n Walk at Your Pace – 24 hours+\nRun or Jog – set a New Goal!\n2 Day Full ‘Daylight’ option\nCamping options available\n Pre-event training support + app\nIt’s Your Challenge – Your Way!\n\nFundraising options\nCharity Sponsorship – pay a small registration fee and do lots of fundraising! \nFull Challenge – £15 reg fee + £595 in fundraising; Half Challenge – £10 reg fee + £395 in fundraising; Quarter Challenge – £5 reg fee + £245 in fundraising \nMixed Funding – pay a higher contribution to the cost of your place and fundraise to a more achievable target. \nFull Challenge – £99 reg fee + £299 in fundraising; Half Challenge – £64.50 reg fee + £199 in fundraising; Quarter Challenge – £39.50 reg fee + £119 in fundraising \nSelf-Funding – pay the full cost of the event and raise whatever you can for Shooting Star Children’s Hospices. \nFull Challenge – £198; Half Challenge – £129; Quarter Challenge – £79
URL:https://www.shootingstar.org.uk/event/cotswold-way-challenge/
LOCATION:Royal Crescent Bath\, 1 Royal Crescent\, Bath\, BA1 2LR\, United Kingdom
CATEGORIES:Fundraising events,Running,Walking
END:VEVENT
BEGIN:VEVENT
DTSTART;TZID=UTC:20190623T200000
DTEND;TZID=UTC:20190623T233000
DTSTAMP:20260423T142048
CREATED:20190515T124829Z
LAST-MODIFIED:20190515T124829Z
UID:38458-1561320000-1561332600@www.shootingstar.org.uk
SUMMARY:Classic Rock Jukebox
DESCRIPTION:Come along to the Classic Rock Jukebox live music event\, hosted by the band ‘Gunrunners\,’ in aid of Shooting Star Children’s Hospices. \nEnjoy music – create music\nBy supporting live music events\, you’re helping to raise money to support our hospice music rooms. Here supported children\, many of whom are non verbal\, can express themselves through musical instruments. Recordings of sessions are kept and given to parents to keep.
URL:https://www.shootingstar.org.uk/event/classic-rock-jukebox/
LOCATION:The Half Moon Pub\, 93 Lower Richmond Rd\, London\, SW15 1EU\, United Kingdom
CATEGORIES:Fundraising events,Social
ATTACH;FMTTYPE=image/jpeg:https://www.shootingstar.org.uk/app/uploads/2018/10/SSH-music-therapy-room-1-IMG_1790.jpg
END:VEVENT
BEGIN:VEVENT
DTSTART;TZID=UTC:20190619T113000
DTEND;TZID=UTC:20190619T203000
DTSTAMP:20260423T142048
CREATED:20190515T113717Z
LAST-MODIFIED:20190515T113717Z
UID:38452-1560943800-1560976200@www.shootingstar.org.uk
SUMMARY:NPL Water Rocket Challenge
DESCRIPTION:Get involved with friends and family at the National Physical Laboratory’s 20th Anniversary Water Rocket Challenge and witness a world record attempt! \nThe Water Rocket Challenge is open to friends\, family\, schools (there is a special school’s only challenge)\, corporate teams and youth groups and has a great STEM focus – brilliant for enthusiasts of science\, design and technology. All money raised will be donated to Shooting Star Children’s Hospices. \nTimings\nSchools only competition: 11:30am to 3.30pm \nGeneral competition: 6pm -8.30pm \nRegister as a team or just pay £2 to come along and watch. \nRegistration now open – book soon to avoid disappointment on www.npl.co.uk/wrc. For more information\, please contact Georgina Brookes on georgina.brookes@shootingstar.org.uk or 01932 823 121. \nEdit This \n  \n 
URL:https://www.shootingstar.org.uk/event/npl-water-rocket-challenge/
LOCATION:National Physical Laboratory\, Hampton Road\, Teddington\, TW11 0LW\, United Kingdom
CATEGORIES:Fundraising events,Social
ATTACH;FMTTYPE=image/jpeg:https://www.shootingstar.org.uk/app/uploads/2019/05/waterrocket.jpg
END:VEVENT
BEGIN:VEVENT
DTSTART;TZID=UTC:20190615T193000
DTEND;TZID=UTC:20190615T223000
DTSTAMP:20260423T142048
CREATED:20190515T110848Z
LAST-MODIFIED:20190515T110848Z
UID:38447-1560627000-1560637800@www.shootingstar.org.uk
SUMMARY:The Classical Duo
DESCRIPTION:Come along to a night of popular classics and musical theatre showstoppers. The Classical Duo\, Hayley Moss and Ben Lake\, will perform and feature a special tribute to Mario Lanza\, in aid of Shooting Star Children’s Hospices. \nTickets can be purchased from Guildford Tourist Information Centre\, 155 High Street\, Guildford GU1 3AJ \nFor further information\, please telephone 01483 444 334 or visit www.visitguildford.com 
URL:https://www.shootingstar.org.uk/event/the-classical-duo/
LOCATION:St Joseph’s Church\, 12 Eastgate Gardens\, Guildford\, England\, GU1 4AZ
CATEGORIES:Fundraising events,Social
ATTACH;FMTTYPE=image/jpeg:https://www.shootingstar.org.uk/app/uploads/2019/05/The-Classical-Duo.jpg
END:VEVENT
BEGIN:VEVENT
DTSTART;VALUE=DATE:20190608
DTEND;VALUE=DATE:20190610
DTSTAMP:20260423T142048
CREATED:20190515T104207Z
LAST-MODIFIED:20190515T104207Z
UID:38443-1559970000-1560124799@www.shootingstar.org.uk
SUMMARY:Jurassic Coast Challenge
DESCRIPTION:Walk\, run or jog. Push yourself further  at the Jurassic Coast Challenge. Choose from the 100km full challenge\, 50k half (first or second half options)\, or 25k quarter challenge. \nYou’ll get full support and hospitality all the way\, leaving you to focus on the walk \n\nJoin as Individual or Team\nRest stops – free food & drink\nALL meals/ food included!\nMedics\, massage\, and pace walkers\nMedal\, T shirt\, glass of bubbly!\nWalk at Your Pace – 24 hours+\nRun or Jog – set a New Goal!\n2 Day Full ‘Daylight’ option\nCamping options available\nPre-event training support + app\nIt’s Your Challenge – Your Way!\n\nFundraising options:\nCharity Sponsorship – pay a small registration fee and do lots of fundraising! \nFull Challenge – £15 reg fee + £595 in fundraising; Half Challenge – £10 reg fee + £395 in fundraising; Quarter Challenge – £5 reg fee + £245 in fundraising \nMixed Funding – pay a higher contribution to the cost of your place and fundraise to a more achievable target. \nFull Challenge – £99 reg fee + £299 in fundraising; Half Challenge – £64.50 reg fee + £199 in fundraising; Quarter Challenge – £39.50 reg fee + £119 in fundraising \nSelf-Funding – pay the full cost of the event and raise whatever you can for Shooting Star Children’s Hospices. \nFull Challenge – £198; Half Challenge – £129; Quarter Challenge – £79 \n 
URL:https://www.shootingstar.org.uk/event/jurassic-coast-challenge/
LOCATION:Poole Harbour\, Whitecliff Recreation Ground\, Poole\, BH14 8EL
CATEGORIES:Fundraising events,Running,Walking
END:VEVENT
BEGIN:VEVENT
DTSTART;TZID=UTC:20190602T110000
DTEND;TZID=UTC:20190602T170000
DTSTAMP:20260423T142048
CREATED:20190515T091139Z
LAST-MODIFIED:20190515T091139Z
UID:38409-1559473200-1559494800@www.shootingstar.org.uk
SUMMARY:Richmond Hill Open Gardens
DESCRIPTION:14 beautiful gardens will be open to the public\, offering something of interest to everyone. Within walking distance of each other and close to Richmond Town Centre\, the gardens are all set on the slopes of picturesque Richmond Hill. Tea and homemade cakes at St Matthias Centre will complete a wonderful day out\, in aid of Shooting Star Children’s Hospices and The Holly Lodge Centre. It’s a great way to relax if you’ve just completed our Richmond Sunrise Walk on the same morning. \n\n\n\nTickets are available at each garden on the route and at the St Matthias Church Centre and will include a clearly labelled map to help find your way around. You can start at any garden and visit in any order. Under 16’s are free. Cash only please. Tickets are available in advance for £11 on Eventbrite until 24 hours before the event opens. If you buy your ticket online you will be emailed an e-ticket. Please print out the email and bring it with you. You will be able to exchange it for a printed ticket/map at any of the gardens. \n\n\n\n\n\nRichmond Hill Open Gardens tickets will be available on Eventbrite from Mid April until 24 hours before the event opens. If you buy your ticket online you will be emailed an e-ticket. Please print out the email and bring it with you. You will be able to exchange it for a printed ticket/map at any of the gardens.
URL:https://www.shootingstar.org.uk/event/richmond-hill-open-gardens/
LOCATION:Richmond Hill\, London\, TW10 6RJ\, United Kingdom
CATEGORIES:Fundraising events,Social
ATTACH;FMTTYPE=image/jpeg:https://www.shootingstar.org.uk/app/uploads/2019/05/richhillopengardens.jpg
END:VEVENT
END:VCALENDAR